BEGIN:VCALENDAR
VERSION:2.0
PRODID:-//Bar Septimus | Wine Bar Adelaide - ECPv6.15.20//NONSGML v1.0//EN
CALSCALE:GREGORIAN
METHOD:PUBLISH
X-WR-CALNAME:Bar Septimus | Wine Bar Adelaide
X-ORIGINAL-URL:https://septimus.au
X-WR-CALDESC:Events for Bar Septimus | Wine Bar Adelaide
REFRESH-INTERVAL;VALUE=DURATION:PT1H
X-Robots-Tag:noindex
X-PUBLISHED-TTL:PT1H
BEGIN:VTIMEZONE
TZID:Australia/Adelaide
BEGIN:STANDARD
TZOFFSETFROM:+1030
TZOFFSETTO:+0930
TZNAME:ACST
DTSTART:20250405T163000
END:STANDARD
BEGIN:DAYLIGHT
TZOFFSETFROM:+0930
TZOFFSETTO:+1030
TZNAME:ACDT
DTSTART:20251004T163000
END:DAYLIGHT
BEGIN:STANDARD
TZOFFSETFROM:+1030
TZOFFSETTO:+0930
TZNAME:ACST
DTSTART:20260404T163000
END:STANDARD
BEGIN:DAYLIGHT
TZOFFSETFROM:+0930
TZOFFSETTO:+1030
TZNAME:ACDT
DTSTART:20261003T163000
END:DAYLIGHT
BEGIN:STANDARD
TZOFFSETFROM:+1030
TZOFFSETTO:+0930
TZNAME:ACST
DTSTART:20270403T163000
END:STANDARD
BEGIN:DAYLIGHT
TZOFFSETFROM:+0930
TZOFFSETTO:+1030
TZNAME:ACDT
DTSTART:20271002T163000
END:DAYLIGHT
END:VTIMEZONE
BEGIN:VEVENT
DTSTART;TZID=Australia/Adelaide:20260302T180000
DTEND;TZID=Australia/Adelaide:20260302T203000
DTSTAMP:20260421T002704
CREATED:20251104T064034Z
LAST-MODIFIED:20251221T114314Z
UID:879-1772474400-1772483400@septimus.au
SUMMARY:Wine Options League - Monday 02 March 2026
DESCRIPTION:The South Australian Wine Options League: The 2026 Championship\nBe part of the inaugural season of the South Australian Wine Options League (SAWOL) — our new monthly blind tasting championship. This is your chance to prove your palate\, compete against Adelaide’s best\, and be crowned the 2026 SAWOL Champion. \nHow The Night Works:\nHeld on the first Monday of every month\, each event features five wines served completely blind in three brackets (two whites\, two reds\, one special wine). For each wine\, you will score points by guessing: \n\nGrape Variety (5 Points)\nRegion (3 Points)\nVintage (2 Points)\n\nEach category will feature four multiple-choice options. We’ll award prizes to the top performers of the night. \nThe 2026 Championship:\nThis is the official league. The season runs for 11 months (February – December 2026). The 2026 Champion will be the participant with the highest cumulative score from their best nine events\, allowing you to miss two nights without penalty. The annual winner will be awarded a grand prize and the SAWOL perpetual trophy. \n\nCost: $40 per person.\nPrizes: Great prizes are awarded to the winners on the night\, plus the annual championship trophy.\nBook Now: Seats are strictly limited to 24 to ensure a great experience. Secure your spot for this month’s event!\n\nThe complete ruleset and live league leaderboard are available at septimus.au.
URL:https://septimus.au/event/wine-options-league/
LOCATION:SEPTIMUS\, 220 Grenfell Street\, Adelaide\, SA\, 5000\, Australia
END:VEVENT
END:VCALENDAR