BEGIN:VCALENDAR
VERSION:2.0
PRODID:-//Bar Septimus | Wine Bar Adelaide - ECPv6.15.20//NONSGML v1.0//EN
CALSCALE:GREGORIAN
METHOD:PUBLISH
X-ORIGINAL-URL:https://septimus.au
X-WR-CALDESC:Events for Bar Septimus | Wine Bar Adelaide
REFRESH-INTERVAL;VALUE=DURATION:PT1H
X-Robots-Tag:noindex
X-PUBLISHED-TTL:PT1H
BEGIN:VTIMEZONE
TZID:Australia/Adelaide
BEGIN:STANDARD
TZOFFSETFROM:+1030
TZOFFSETTO:+0930
TZNAME:ACST
DTSTART:20240406T163000
END:STANDARD
BEGIN:DAYLIGHT
TZOFFSETFROM:+0930
TZOFFSETTO:+1030
TZNAME:ACDT
DTSTART:20241005T163000
END:DAYLIGHT
BEGIN:STANDARD
TZOFFSETFROM:+1030
TZOFFSETTO:+0930
TZNAME:ACST
DTSTART:20250405T163000
END:STANDARD
BEGIN:DAYLIGHT
TZOFFSETFROM:+0930
TZOFFSETTO:+1030
TZNAME:ACDT
DTSTART:20251004T163000
END:DAYLIGHT
BEGIN:STANDARD
TZOFFSETFROM:+1030
TZOFFSETTO:+0930
TZNAME:ACST
DTSTART:20260404T163000
END:STANDARD
BEGIN:DAYLIGHT
TZOFFSETFROM:+0930
TZOFFSETTO:+1030
TZNAME:ACDT
DTSTART:20261003T163000
END:DAYLIGHT
END:VTIMEZONE
BEGIN:VEVENT
DTSTART;TZID=Australia/Adelaide:20250925T183000
DTEND;TZID=Australia/Adelaide:20250925T203000
DTSTAMP:20260421T143102
CREATED:20250915T084951Z
LAST-MODIFIED:20250919T022831Z
UID:154-1758825000-1758832200@septimus.au
SUMMARY:PARE Wine x SEPTIMUS Masterclass
DESCRIPTION:Join us at Septimus for an intimate evening with Pare Wines\, guided by Ansel Ashby and Andrew Williams alongside our Winemaker in Residence\, Gracie Douglas. \nExplore Chardonnay and Grenache from iconic vineyards\, with rare releases and stories from the winemakers themselves. \nDate: Thursday 25 September 2025\nTime: 6:30pm – 8:30pm\nLocation: Septimus\, 220 Grenfell Street\, Adelaide \nBook Now – $55
URL:https://septimus.au/event/pare-wine-x-septimus-masterclass/
LOCATION:SEPTIMUS\, 220 Grenfell Street\, Adelaide\, SA\, 5000\, Australia
CATEGORIES:Masterclass
END:VEVENT
END:VCALENDAR