BEGIN:VCALENDAR
VERSION:2.0
PRODID:-//Bar Septimus | Wine Bar Adelaide - ECPv6.15.20//NONSGML v1.0//EN
CALSCALE:GREGORIAN
METHOD:PUBLISH
X-WR-CALNAME:Bar Septimus | Wine Bar Adelaide
X-ORIGINAL-URL:https://septimus.au
X-WR-CALDESC:Events for Bar Septimus | Wine Bar Adelaide
REFRESH-INTERVAL;VALUE=DURATION:PT1H
X-Robots-Tag:noindex
X-PUBLISHED-TTL:PT1H
BEGIN:VTIMEZONE
TZID:Australia/Adelaide
BEGIN:STANDARD
TZOFFSETFROM:+1030
TZOFFSETTO:+0930
TZNAME:ACST
DTSTART:20240406T163000
END:STANDARD
BEGIN:DAYLIGHT
TZOFFSETFROM:+0930
TZOFFSETTO:+1030
TZNAME:ACDT
DTSTART:20241005T163000
END:DAYLIGHT
BEGIN:STANDARD
TZOFFSETFROM:+1030
TZOFFSETTO:+0930
TZNAME:ACST
DTSTART:20250405T163000
END:STANDARD
BEGIN:DAYLIGHT
TZOFFSETFROM:+0930
TZOFFSETTO:+1030
TZNAME:ACDT
DTSTART:20251004T163000
END:DAYLIGHT
BEGIN:STANDARD
TZOFFSETFROM:+1030
TZOFFSETTO:+0930
TZNAME:ACST
DTSTART:20260404T163000
END:STANDARD
BEGIN:DAYLIGHT
TZOFFSETFROM:+0930
TZOFFSETTO:+1030
TZNAME:ACDT
DTSTART:20261003T163000
END:DAYLIGHT
BEGIN:STANDARD
TZOFFSETFROM:+1030
TZOFFSETTO:+0930
TZNAME:ACST
DTSTART:20270403T163000
END:STANDARD
BEGIN:DAYLIGHT
TZOFFSETFROM:+0930
TZOFFSETTO:+1030
TZNAME:ACDT
DTSTART:20271002T163000
END:DAYLIGHT
END:VTIMEZONE
BEGIN:VEVENT
DTSTART;TZID=Australia/Adelaide:20251207T140000
DTEND;TZID=Australia/Adelaide:20251207T180000
DTSTAMP:20260421T143253
CREATED:20250926T014459Z
LAST-MODIFIED:20250926T014459Z
UID:573-1765116000-1765130400@septimus.au
SUMMARY:Adelaide Cellar Door Collective - Hoffmann Wines
DESCRIPTION:Join us at Septimus\, House of Cheese & Wine for the Adelaide Cellar Door Collective featuring Hoffmann Family Vineyards. \nThe Hoffmann name is synonymous with Barossa Shiraz. Adrian Hoffmann\, a sixth-generation Barossan\, manages over 135 hectares of premium vineyards in the northern Barossa\, including historic blocks planted in the 1880s. Adrian’s reputation as a grower is unmatched\, supplying fruit to many of Australia’s most celebrated wines. \nWorking alongside him is his son Byron Hoffmann\, who represents the next generation of the family. Together\, they continue the tradition of producing exceptional Shiraz while exploring varieties such as Grenache\, Mataro\, Cabernet Sauvignon and emerging reds. \nThis event reflects our relaxed AC-DC vine to glass approach — sharing Adrian and Byron’s vineyard stories\, pouring wines with character\, and pairing them with artisan cheeses in a convivial setting. \nDate: 7 December 2025Time: 2:00pm to 6:00pmLocation: Septimus\, House of Cheese & Wine\, 220 Grenfell Street\, Adelaide \n👉 Please ensure you book your seats at Septimus for this Hoffmann tasting. \nLearn more about Hoffmann Family Vineyards at hoffmannfamilyvineyards.com
URL:https://septimus.au/event/adelaide-cellar-door-collective-hoffmann-wines-2/
LOCATION:SA
END:VEVENT
BEGIN:VEVENT
DTSTART;TZID=Australia/Adelaide:20251211T173000
DTEND;TZID=Australia/Adelaide:20251211T213000
DTSTAMP:20260421T143253
CREATED:20250915T085500Z
LAST-MODIFIED:20251123T071012Z
UID:160-1765474200-1765488600@septimus.au
SUMMARY:An Evening with Bremerton Wines
DESCRIPTION:BREMERTON X SEPTIMUS SOCIAL EVENING\nJoin us at Septimus for a fantastic social evening with Bremerton Wines\, hosted by the celebrated Willson sisters alongside our Winemaker in Residence\, Gracie Douglas. \nProudly run by sisters Lucy and Rebecca Willson\, Australia’s first sister-run winery\, Bremerton Wines brings more than 35 years of grape growing and winemaking experience to the glass. Their estate-grown fruit and commitment to best-practice environmental and viticultural sustainability have positioned Bremerton as a leader in South Australian winemaking. \nThis is a rare opportunity to meet the team and enjoy a FIVE STAR James Halliday winery for ONE NIGHT ONLY in the Adelaide CBD. For the past 18 consecutive years\, Bremerton has championed quality\, innovation\, and integrity\, producing wines that reflect both place and people with authenticity and heart. \nThis isn’t a formal masterclass; it’s a party! Get ready to socialize\, meet the team\, and enjoy their iconic Langhorne Creek wines with roving grazing platters. \n\nEvent Details\nDate: Thursday 11 December 2025 \nTime: 6:30pm – 9:30pm \nLocation: SEPTIMUS\, 220 Grenfell Street\, Adelaide \nBOOK NOW
URL:https://septimus.au/event/a-night-with-bremerton-wines/
LOCATION:SEPTIMUS\, 220 Grenfell Street\, Adelaide\, SA\, 5000\, Australia
END:VEVENT
BEGIN:VEVENT
DTSTART;TZID=Australia/Adelaide:20251231T180000
DTEND;TZID=Australia/Adelaide:20260101T010000
DTSTAMP:20260421T143253
CREATED:20251218T102510Z
LAST-MODIFIED:20251218T102707Z
UID:920-1767204000-1767229200@septimus.au
SUMMARY:Septimus Uncorked: The NYE Free-Flow
DESCRIPTION:Septimus Uncorked: The NYE Free-Flow\nWednesday 31 December 2025\, 6:00 pm — Thursday 1 January 2026\, 1:00 am ACDT \n220 Grenfell Street\, Adelaide SA 5000 \n\nSay goodbye to 2025 in true Septimus style. We are clearing the tables to make room for the dance floor and opening the cellar for a night of uninhibited celebration. \nYour ticket includes free-flowing wines selected specially for the evening\, artisanal cheese and charcuterie\, and generous grazing platters to keep you fueled. With music spinning until the early hours\, there are no tabs and no fuss—just great wine\, great music\, and the best company. \n\nBook Your Tickets
URL:https://septimus.au/event/920/
LOCATION:SEPTIMUS\, 220 Grenfell Street\, Adelaide\, SA\, 5000\, Australia
END:VEVENT
BEGIN:VEVENT
DTSTART;VALUE=DATE:20260125
DTEND;VALUE=DATE:20260126
DTSTAMP:20260421T143253
CREATED:20251218T103301Z
LAST-MODIFIED:20251218T103301Z
UID:923-1769299200-1769385599@septimus.au
SUMMARY:Tour Down Under - Special Events\, Deals and Menu Items
DESCRIPTION:Tour Down Under at Septimus\nAvailable from Sunday 18 January — Sunday 25 January 2026 \n220 Grenfell Street\, Adelaide (Right in the heart of the action) \n\nAs the world’s elite cyclists descend on Adelaide\, Septimus House of Cheese and Wine becomes your ultimate pit-stop. We are celebrating the energy of the 2026 Tour Down Under with a week of exclusive specials. \nThe TDU Specials\n\nThe Breakaway Board: A curated selection of local South Australian cheeses\, premium charcuterie\, and house-made pickles.\nThe Peloton Pour: Flight of three South Australian wines highlighting the regions the race travels through.\nSpritz & Spokes: Refreshing summer spritz deals available all afternoon.\n\nWhether you’re a cycling enthusiast or just soaking up the festival atmosphere in the East End\, join us for premium pours and the best grazing in the city. \nBook a Table
URL:https://septimus.au/event/tour-down-under-special-events-deals-and-menu-items/
LOCATION:SEPTIMUS\, 220 Grenfell Street\, Adelaide\, SA\, 5000\, Australia
END:VEVENT
BEGIN:VEVENT
DTSTART;TZID=Australia/Adelaide:20260202T183000
DTEND;TZID=Australia/Adelaide:20260202T200000
DTSTAMP:20260421T143253
CREATED:20251104T061710Z
LAST-MODIFIED:20251104T063320Z
UID:866-1770057000-1770062400@septimus.au
SUMMARY:Wine Options League - Monday 02 February 2026
DESCRIPTION:The South Australian Wine Options League: The 2026 Championship\nBe part of the inaugural season of the South Australian Wine Options League (SAWOL) — our new monthly blind tasting championship. This is your chance to prove your palate\, compete against Adelaide’s best\, and be crowned the 2026 SAWOL Champion. \nHow The Night Works:\nHeld on the first Monday of every month\, each event features five wines served completely blind in three brackets (two whites\, two reds\, one special wine). For each wine\, you will score points by guessing: \n\nGrape Variety (5 Points)\nRegion (3 Points)\nVintage (2 Points)\n\nEach category will feature four multiple-choice options. We’ll award prizes to the top performers of the night. \nThe 2026 Championship:\nThis is the official league. The season runs for 11 months (February – December 2026). The 2026 Champion will be the participant with the highest cumulative score from their best nine events\, allowing you to miss two nights without penalty. The annual winner will be awarded a grand prize and the SAWOL perpetual trophy. \n\n 	 \nCost: $40 per person.\n 	 \nPrizes: Great prizes are awarded to the winners on the night\, plus the annual championship trophy.\n 	 \nBook Now: Seats are strictly limited to 24 to ensure a great experience. Secure your spot for this month’s event!\n\nThe complete ruleset and live league leaderboard are available at septimus.au.
URL:https://septimus.au/event/wine-options-league-monday-02-february-2026/
LOCATION:SA
CATEGORIES:Wine Options League
END:VEVENT
BEGIN:VEVENT
DTSTART;TZID=Australia/Adelaide:20260302T180000
DTEND;TZID=Australia/Adelaide:20260302T203000
DTSTAMP:20260421T143253
CREATED:20251104T064034Z
LAST-MODIFIED:20251221T114314Z
UID:879-1772474400-1772483400@septimus.au
SUMMARY:Wine Options League - Monday 02 March 2026
DESCRIPTION:The South Australian Wine Options League: The 2026 Championship\nBe part of the inaugural season of the South Australian Wine Options League (SAWOL) — our new monthly blind tasting championship. This is your chance to prove your palate\, compete against Adelaide’s best\, and be crowned the 2026 SAWOL Champion. \nHow The Night Works:\nHeld on the first Monday of every month\, each event features five wines served completely blind in three brackets (two whites\, two reds\, one special wine). For each wine\, you will score points by guessing: \n\nGrape Variety (5 Points)\nRegion (3 Points)\nVintage (2 Points)\n\nEach category will feature four multiple-choice options. We’ll award prizes to the top performers of the night. \nThe 2026 Championship:\nThis is the official league. The season runs for 11 months (February – December 2026). The 2026 Champion will be the participant with the highest cumulative score from their best nine events\, allowing you to miss two nights without penalty. The annual winner will be awarded a grand prize and the SAWOL perpetual trophy. \n\nCost: $40 per person.\nPrizes: Great prizes are awarded to the winners on the night\, plus the annual championship trophy.\nBook Now: Seats are strictly limited to 24 to ensure a great experience. Secure your spot for this month’s event!\n\nThe complete ruleset and live league leaderboard are available at septimus.au.
URL:https://septimus.au/event/wine-options-league/
LOCATION:SEPTIMUS\, 220 Grenfell Street\, Adelaide\, SA\, 5000\, Australia
END:VEVENT
BEGIN:VEVENT
DTSTART;TZID=Australia/Adelaide:20260413T183000
DTEND;TZID=Australia/Adelaide:20260413T200000
DTSTAMP:20260421T143253
CREATED:20251104T062509Z
LAST-MODIFIED:20260321T052313Z
UID:871-1776105000-1776110400@septimus.au
SUMMARY:Wine Options League - Monday 13 April 2026
DESCRIPTION:The South Australian Wine Options League: The 2026 Championship\nBe part of the inaugural season of the South Australian Wine Options League (SAWOL) — our new monthly blind tasting championship. This is your chance to prove your palate\, compete against Adelaide’s best\, and be crowned the 2026 SAWOL Champion. \nHow The Night Works:\nHeld on the first Monday of every month\, each event features six wines served completely blind in four brackets (one sparkling\, two whites\, two reds\, one special wine). For each wine\, you will score points by guessing: \n\nGrape Variety (5 Points)\nRegion (3 Points)\nVintage (2 Points)\n\nEach category will feature four multiple-choice options. We’ll award prizes to the top performers of the night. \nThe 2026 Championship:\nThis is the official league. The season runs for 11 months (February – December 2026). The 2026 Champion will be the participant with the highest cumulative score from their best nine events\, allowing you to miss two nights without penalty. The annual winner will be awarded a grand prize and the SAWOL perpetual trophy. \n\n 	 \nCost: $40 per person.\n 	 \nPrizes: Great prizes are awarded to the winners on the night\, plus the annual championship trophy.\n 	 \nBook Now: Seats are strictly limited to 24 to ensure a great experience. Secure your spot for this month’s event!\n\nThe complete ruleset and live league leaderboard are available at septimus.au.
URL:https://septimus.au/event/wine-options-02-march-2026/
LOCATION:SA
CATEGORIES:Wine Options League
END:VEVENT
BEGIN:VEVENT
DTSTART;TZID=Australia/Adelaide:20260504T183000
DTEND;TZID=Australia/Adelaide:20260504T200000
DTSTAMP:20260421T143253
CREATED:20251104T064815Z
LAST-MODIFIED:20260321T052336Z
UID:884-1777919400-1777924800@septimus.au
SUMMARY:Wine Options League - 04 May 2026
DESCRIPTION:The South Australian Wine Options League: The 2026 Championship\nBe part of the inaugural season of the South Australian Wine Options League (SAWOL) — our new monthly blind tasting championship. This is your chance to prove your palate\, compete against Adelaide’s best\, and be crowned the 2026 SAWOL Champion. \nHow The Night Works:\nHeld on the first Monday of every month\, each event features six wines served completely blind in four brackets (one sparkling\, two whites\, two reds\, one special wine). For each wine\, you will score points by guessing: \n\nGrape Variety (5 Points)\nRegion (3 Points)\nVintage (2 Points)\n\nEach category will feature four multiple-choice options. We’ll award prizes to the top performers of the night. \nThe 2026 Championship:\nThis is the official league. The season runs for 11 months (February – December 2026). The 2026 Champion will be the participant with the highest cumulative score from their best nine events\, allowing you to miss two nights without penalty. The annual winner will be awarded a grand prize and the SAWOL perpetual trophy. \n\n 	 \nCost: $40 per person.\n 	 \nPrizes: Great prizes are awarded to the winners on the night\, plus the annual championship trophy.\n 	 \nBook Now: Seats are strictly limited to 24 to ensure a great experience. Secure your spot for this month’s event!\n\nThe complete ruleset and live league leaderboard are available at septimus.au.
URL:https://septimus.au/event/wine-options-league-04-may-2026/
LOCATION:SA
CATEGORIES:Wine Options League
END:VEVENT
BEGIN:VEVENT
DTSTART;TZID=Australia/Adelaide:20260601T183000
DTEND;TZID=Australia/Adelaide:20260601T200000
DTSTAMP:20260421T143253
CREATED:20251104T065301Z
LAST-MODIFIED:20260321T052358Z
UID:887-1780338600-1780344000@septimus.au
SUMMARY:Wine Options League - 01 June 2026
DESCRIPTION:The South Australian Wine Options League: The 2026 Championship\nBe part of the inaugural season of the South Australian Wine Options League (SAWOL) — our new monthly blind tasting championship. This is your chance to prove your palate\, compete against Adelaide’s best\, and be crowned the 2026 SAWOL Champion. \nHow The Night Works:\nHeld on the first Monday of every month\, each event features six wines served completely blind in four brackets (one sparkling\, two whites\, two reds\, one special wine). For each wine\, you will score points by guessing: \n\nGrape Variety (5 Points)\nRegion (3 Points)\nVintage (2 Points)\n\nEach category will feature four multiple-choice options. We’ll award prizes to the top performers of the night. \nThe 2026 Championship:\nThis is the official league. The season runs for 11 months (February – December 2026). The 2026 Champion will be the participant with the highest cumulative score from their best nine events\, allowing you to miss two nights without penalty. The annual winner will be awarded a grand prize and the SAWOL perpetual trophy. \n\n 	 \nCost: $40 per person.\n 	 \nPrizes: Great prizes are awarded to the winners on the night\, plus the annual championship trophy.\n 	 \nBook Now: Seats are strictly limited to 24 to ensure a great experience. Secure your spot for this month’s event!\n\nThe complete ruleset and live league leaderboard are available at septimus.au.
URL:https://septimus.au/event/wine-options-league-01-june-2026/
LOCATION:SA
CATEGORIES:Wine Options League
END:VEVENT
END:VCALENDAR