BEGIN:VCALENDAR
VERSION:2.0
PRODID:-//Bar Septimus | Wine Bar Adelaide - ECPv6.15.20//NONSGML v1.0//EN
CALSCALE:GREGORIAN
METHOD:PUBLISH
X-ORIGINAL-URL:https://septimus.au
X-WR-CALDESC:Events for Bar Septimus | Wine Bar Adelaide
REFRESH-INTERVAL;VALUE=DURATION:PT1H
X-Robots-Tag:noindex
X-PUBLISHED-TTL:PT1H
BEGIN:VTIMEZONE
TZID:Australia/Adelaide
BEGIN:STANDARD
TZOFFSETFROM:+1030
TZOFFSETTO:+0930
TZNAME:ACST
DTSTART:20240406T163000
END:STANDARD
BEGIN:DAYLIGHT
TZOFFSETFROM:+0930
TZOFFSETTO:+1030
TZNAME:ACDT
DTSTART:20241005T163000
END:DAYLIGHT
BEGIN:STANDARD
TZOFFSETFROM:+1030
TZOFFSETTO:+0930
TZNAME:ACST
DTSTART:20250405T163000
END:STANDARD
BEGIN:DAYLIGHT
TZOFFSETFROM:+0930
TZOFFSETTO:+1030
TZNAME:ACDT
DTSTART:20251004T163000
END:DAYLIGHT
BEGIN:STANDARD
TZOFFSETFROM:+1030
TZOFFSETTO:+0930
TZNAME:ACST
DTSTART:20260404T163000
END:STANDARD
BEGIN:DAYLIGHT
TZOFFSETFROM:+0930
TZOFFSETTO:+1030
TZNAME:ACDT
DTSTART:20261003T163000
END:DAYLIGHT
END:VTIMEZONE
BEGIN:VEVENT
DTSTART;TZID=Australia/Adelaide:20251211T173000
DTEND;TZID=Australia/Adelaide:20251211T213000
DTSTAMP:20260421T110402
CREATED:20250915T085500Z
LAST-MODIFIED:20251123T071012Z
UID:160-1765474200-1765488600@septimus.au
SUMMARY:An Evening with Bremerton Wines
DESCRIPTION:BREMERTON X SEPTIMUS SOCIAL EVENING\nJoin us at Septimus for a fantastic social evening with Bremerton Wines\, hosted by the celebrated Willson sisters alongside our Winemaker in Residence\, Gracie Douglas. \nProudly run by sisters Lucy and Rebecca Willson\, Australia’s first sister-run winery\, Bremerton Wines brings more than 35 years of grape growing and winemaking experience to the glass. Their estate-grown fruit and commitment to best-practice environmental and viticultural sustainability have positioned Bremerton as a leader in South Australian winemaking. \nThis is a rare opportunity to meet the team and enjoy a FIVE STAR James Halliday winery for ONE NIGHT ONLY in the Adelaide CBD. For the past 18 consecutive years\, Bremerton has championed quality\, innovation\, and integrity\, producing wines that reflect both place and people with authenticity and heart. \nThis isn’t a formal masterclass; it’s a party! Get ready to socialize\, meet the team\, and enjoy their iconic Langhorne Creek wines with roving grazing platters. \n\nEvent Details\nDate: Thursday 11 December 2025 \nTime: 6:30pm – 9:30pm \nLocation: SEPTIMUS\, 220 Grenfell Street\, Adelaide \nBOOK NOW
URL:https://septimus.au/event/a-night-with-bremerton-wines/
LOCATION:SEPTIMUS\, 220 Grenfell Street\, Adelaide\, SA\, 5000\, Australia
END:VEVENT
END:VCALENDAR