BEGIN:VCALENDAR
VERSION:2.0
PRODID:-//Bar Septimus | Wine Bar Adelaide - ECPv6.15.20//NONSGML v1.0//EN
CALSCALE:GREGORIAN
METHOD:PUBLISH
X-ORIGINAL-URL:https://septimus.au
X-WR-CALDESC:Events for Bar Septimus | Wine Bar Adelaide
REFRESH-INTERVAL;VALUE=DURATION:PT1H
X-Robots-Tag:noindex
X-PUBLISHED-TTL:PT1H
BEGIN:VTIMEZONE
TZID:Australia/Adelaide
BEGIN:STANDARD
TZOFFSETFROM:+1030
TZOFFSETTO:+0930
TZNAME:ACST
DTSTART:20240406T163000
END:STANDARD
BEGIN:DAYLIGHT
TZOFFSETFROM:+0930
TZOFFSETTO:+1030
TZNAME:ACDT
DTSTART:20241005T163000
END:DAYLIGHT
BEGIN:STANDARD
TZOFFSETFROM:+1030
TZOFFSETTO:+0930
TZNAME:ACST
DTSTART:20250405T163000
END:STANDARD
BEGIN:DAYLIGHT
TZOFFSETFROM:+0930
TZOFFSETTO:+1030
TZNAME:ACDT
DTSTART:20251004T163000
END:DAYLIGHT
BEGIN:STANDARD
TZOFFSETFROM:+1030
TZOFFSETTO:+0930
TZNAME:ACST
DTSTART:20260404T163000
END:STANDARD
BEGIN:DAYLIGHT
TZOFFSETFROM:+0930
TZOFFSETTO:+1030
TZNAME:ACDT
DTSTART:20261003T163000
END:DAYLIGHT
END:VTIMEZONE
BEGIN:VEVENT
DTSTART;TZID=Australia/Adelaide:20251201T183000
DTEND;TZID=Australia/Adelaide:20251201T200000
DTSTAMP:20260421T111532
CREATED:20251014T065644Z
LAST-MODIFIED:20251104T063251Z
UID:815-1764613800-1764619200@septimus.au
SUMMARY:Wine Options League - December
DESCRIPTION:The Wine Options League: A Monthly Tasting Series\nBe part of the beginning! We are officially launching our brand new monthly blind tasting series. This is your chance to sharpen your senses\, learn about wine\, and engage in some friendly competition. \nHow It Works:\nEvery month\, you’ll taste five wines served completely blind. For each wine\, you will guess the grape variety\, region\, and vintage. Each category will feature four multiple-choice options to help guide you\, plus a challenging bonus question for a chance at extra points. We’ll award prizes to the top performers of the night. \nThe Warm-Up for the Championship:\nConsider this series the official warm-up! These events are an introduction to the format of our Wine Options League\, which will formally kick off next year\, culminating in our first-ever Annual Championship in 2026. This is the perfect opportunity to hone your skills\, get a feel for the competition\, and prepare for the inaugural season. \n\nCost: $40 per person.\nPrizes: Great prizes are awarded on the night.\nBook Now: Seats are limited for our December edition! Secure your spot and get a head start for next year’s competition!\n\nOfficial league rules and scoring details to follow.
URL:https://septimus.au/event/wine-options-league-december/
LOCATION:SA
CATEGORIES:Wine Options League
END:VEVENT
END:VCALENDAR